BEGIN:VCALENDAR
VERSION:2.0
PRODID:-//Enaon eda - ECPv6.11.2//NONSGML v1.0//EN
CALSCALE:GREGORIAN
METHOD:PUBLISH
X-WR-CALNAME:Enaon eda
X-ORIGINAL-URL:https://www.ena-on.com
X-WR-CALDESC:Events for Enaon eda
REFRESH-INTERVAL;VALUE=DURATION:PT1H
X-Robots-Tag:noindex
X-PUBLISHED-TTL:PT1H
BEGIN:VTIMEZONE
TZID:Europe/Athens
BEGIN:DAYLIGHT
TZOFFSETFROM:+0200
TZOFFSETTO:+0300
TZNAME:EEST
DTSTART:20250330T010000
END:DAYLIGHT
BEGIN:STANDARD
TZOFFSETFROM:+0300
TZOFFSETTO:+0200
TZNAME:EET
DTSTART:20251026T010000
END:STANDARD
END:VTIMEZONE
BEGIN:VEVENT
DTSTART;TZID=Europe/Athens:20250916T100000
DTEND;TZID=Europe/Athens:20250917T140000
DTSTAMP:20260424T192435
CREATED:20250911T085735Z
LAST-MODIFIED:20250911T090342Z
UID:30211-1758016800-1758117600@www.ena-on.com
SUMMARY:16 - 17 Σεπτεμβρίου παρουσία κινητής μονάδας στη Θήβα
DESCRIPTION:Στις 16 και 17 Σεπτεμβρίου\, η κινητή μονάδα εξυπηρέτησης καταναλωτών της Enaon EDA θα βρίσκεται στη Θήβα\, για την εξυπηρέτηση των κατοίκων που ενδιαφέρονται να συνδεθούν με το δίκτυο διανομής φυσικού αερίου.
URL:https://www.ena-on.com/event/16-17-septemvriou-parousia-kinitis-monadas-sti-thiva/
LOCATION:Θήβα\, Κεντρική πλατεία Θήβας\, Θήβα\, 32200\, Greece
END:VEVENT
END:VCALENDAR