BEGIN:VCALENDAR
VERSION:2.0
PRODID:-//Enaon eda - ECPv6.11.2//NONSGML v1.0//EN
CALSCALE:GREGORIAN
METHOD:PUBLISH
X-ORIGINAL-URL:https://www.ena-on.com
X-WR-CALDESC:Events for Enaon eda
REFRESH-INTERVAL;VALUE=DURATION:PT1H
X-Robots-Tag:noindex
X-PUBLISHED-TTL:PT1H
BEGIN:VTIMEZONE
TZID:Europe/Athens
BEGIN:DAYLIGHT
TZOFFSETFROM:+0200
TZOFFSETTO:+0300
TZNAME:EEST
DTSTART:20250330T010000
END:DAYLIGHT
BEGIN:STANDARD
TZOFFSETFROM:+0300
TZOFFSETTO:+0200
TZNAME:EET
DTSTART:20251026T010000
END:STANDARD
END:VTIMEZONE
BEGIN:VEVENT
DTSTART;TZID=Europe/Athens:20250925T100000
DTEND;TZID=Europe/Athens:20250925T140000
DTSTAMP:20260424T192533
CREATED:20250922T122018Z
LAST-MODIFIED:20250922T123418Z
UID:30369-1758794400-1758808800@www.ena-on.com
SUMMARY:25 Σεπτεμβρίου παρουσία κινητής μονάδας στους Αγίους Αναργύρους
DESCRIPTION:Στις 25 Σεπτεμβρίου\, η κινητή μονάδα εξυπηρέτησης καταναλωτών της ENAON EDA\, θα βρίσκεται στους Αγίους Αναργύρους\, για την εξυπηρέτηση των κατοίκων που ενδιαφέρονται να συνδεθούν με το δίκτυο διανομής φυσικού αερίου.
URL:https://www.ena-on.com/event/25-septemvriou-parousia-kinitis-monadas-stous-agious-anargyrous/
LOCATION:Άγιοι Ανάργυροι\, Λεωφόρος Δημοκρατίας\, Άγιοι Ανάργυροι\, 13562\, Greece
END:VEVENT
END:VCALENDAR