BEGIN:VCALENDAR
VERSION:2.0
PRODID:-//Enaon eda - ECPv6.11.2//NONSGML v1.0//EN
CALSCALE:GREGORIAN
METHOD:PUBLISH
X-ORIGINAL-URL:https://www.ena-on.com
X-WR-CALDESC:Events for Enaon eda
REFRESH-INTERVAL;VALUE=DURATION:PT1H
X-Robots-Tag:noindex
X-PUBLISHED-TTL:PT1H
BEGIN:VTIMEZONE
TZID:Europe/Athens
BEGIN:DAYLIGHT
TZOFFSETFROM:+0200
TZOFFSETTO:+0300
TZNAME:EEST
DTSTART:20250330T010000
END:DAYLIGHT
BEGIN:STANDARD
TZOFFSETFROM:+0300
TZOFFSETTO:+0200
TZNAME:EET
DTSTART:20251026T010000
END:STANDARD
END:VTIMEZONE
BEGIN:VEVENT
DTSTART;TZID=Europe/Athens:20250929T100000
DTEND;TZID=Europe/Athens:20250930T140000
DTSTAMP:20260424T174541
CREATED:20250926T123903Z
LAST-MODIFIED:20250926T124118Z
UID:30456-1759140000-1759240800@www.ena-on.com
SUMMARY:29-30 Σεπτεμβρίου παρουσία κινητής μονάδας στο Καρπενήσι
DESCRIPTION:Στις 29 και 30 Σεπτεμβρίου\, η κινητή μονάδα εξυπηρέτησης καταναλωτών της ENAON EDA\, θα βρίσκεται στο Καρπενήσι\, για την εξυπηρέτηση των κατοίκων που ενδιαφέρονται να συνδεθούν με το δίκτυο διανομής φυσικού αερίου.
URL:https://www.ena-on.com/event/29-30-septemvriou-parousia-kinitis-monadas-sto-karpenisi/
LOCATION:Καρπενήσι\, Καρπενήσι\, 361 00\, Greece
END:VEVENT
END:VCALENDAR