BEGIN:VCALENDAR
VERSION:2.0
PRODID:-//Enaon eda - ECPv6.11.2//NONSGML v1.0//EN
CALSCALE:GREGORIAN
METHOD:PUBLISH
X-ORIGINAL-URL:https://www.ena-on.com
X-WR-CALDESC:Events for Enaon eda
REFRESH-INTERVAL;VALUE=DURATION:PT1H
X-Robots-Tag:noindex
X-PUBLISHED-TTL:PT1H
BEGIN:VTIMEZONE
TZID:Europe/Athens
BEGIN:DAYLIGHT
TZOFFSETFROM:+0200
TZOFFSETTO:+0300
TZNAME:EEST
DTSTART:20250330T010000
END:DAYLIGHT
BEGIN:STANDARD
TZOFFSETFROM:+0300
TZOFFSETTO:+0200
TZNAME:EET
DTSTART:20251026T010000
END:STANDARD
END:VTIMEZONE
BEGIN:VEVENT
DTSTART;TZID=Europe/Athens:20251022T100000
DTEND;TZID=Europe/Athens:20251022T140000
DTSTAMP:20260424T191743
CREATED:20251020T063205Z
LAST-MODIFIED:20251020T063824Z
UID:30898-1761127200-1761141600@www.ena-on.com
SUMMARY:22 Οκτωβρίου παρουσία κινητής μονάδας στη Λιβαδειά
DESCRIPTION:Στις 22 Οκτωβρίου\, η κινητή μονάδα εξυπηρέτησης καταναλωτών της ENAON EDA\, θα βρίσκεται στη Λιβαδειά\, για να εξυπηρετήσει τους κατοίκους που ενδιαφέρονται να συνδεθούν με το δίκτυο διανομής φυσικού αερίου.
URL:https://www.ena-on.com/event/22-oktovriou-parousia-kinitis-monadas-sti-livadeia/
LOCATION:Λιβαδειά\, Πλατεία Λ. Κατσώνη\, Λιβαδειά\, 32131\, Greece
END:VEVENT
END:VCALENDAR