BEGIN:VCALENDAR
VERSION:2.0
PRODID:-//Enaon eda - ECPv6.11.2//NONSGML v1.0//EN
CALSCALE:GREGORIAN
METHOD:PUBLISH
X-ORIGINAL-URL:https://www.ena-on.com
X-WR-CALDESC:Events for Enaon eda
REFRESH-INTERVAL;VALUE=DURATION:PT1H
X-Robots-Tag:noindex
X-PUBLISHED-TTL:PT1H
BEGIN:VTIMEZONE
TZID:Europe/Athens
BEGIN:DAYLIGHT
TZOFFSETFROM:+0200
TZOFFSETTO:+0300
TZNAME:EEST
DTSTART:20250330T010000
END:DAYLIGHT
BEGIN:STANDARD
TZOFFSETFROM:+0300
TZOFFSETTO:+0200
TZNAME:EET
DTSTART:20251026T010000
END:STANDARD
END:VTIMEZONE
BEGIN:VEVENT
DTSTART;TZID=Europe/Athens:20251104T100000
DTEND;TZID=Europe/Athens:20251105T190000
DTSTAMP:20260424T161251
CREATED:20251029T120337Z
LAST-MODIFIED:20251029T120755Z
UID:31029-1762250400-1762369200@www.ena-on.com
SUMMARY:4-5 Νοεμβρίου παρουσία κινητής μονάδας στη Βέροια
DESCRIPTION:Στις 4&5 Νοεμβρίου\, η κινητή μονάδα εξυπηρέτησης καταναλωτών της ENAON EDA\, θα βρίσκεται στη Βέροια\, για να εξυπηρετήσει τους κατοίκους που ενδιαφέρονται να συνδεθούν με το δίκτυο διανομής φυσικού αερίου.
URL:https://www.ena-on.com/event/4-5-noemvriou-parousia-kinitis-monadas-sti-veroia/
LOCATION:Βέροια\, Πλατεία Δημαρχείου\, Βέροια\, 59132\, Greece
END:VEVENT
END:VCALENDAR