BEGIN:VCALENDAR
VERSION:2.0
PRODID:-//Enaon eda - ECPv6.11.2//NONSGML v1.0//EN
CALSCALE:GREGORIAN
METHOD:PUBLISH
X-ORIGINAL-URL:https://www.ena-on.com
X-WR-CALDESC:Events for Enaon eda
REFRESH-INTERVAL;VALUE=DURATION:PT1H
X-Robots-Tag:noindex
X-PUBLISHED-TTL:PT1H
BEGIN:VTIMEZONE
TZID:Europe/Athens
BEGIN:DAYLIGHT
TZOFFSETFROM:+0200
TZOFFSETTO:+0300
TZNAME:EEST
DTSTART:20250330T010000
END:DAYLIGHT
BEGIN:STANDARD
TZOFFSETFROM:+0300
TZOFFSETTO:+0200
TZNAME:EET
DTSTART:20251026T010000
END:STANDARD
END:VTIMEZONE
BEGIN:VEVENT
DTSTART;TZID=Europe/Athens:20251014T100000
DTEND;TZID=Europe/Athens:20251014T140000
DTSTAMP:20260424T161243
CREATED:20251010T092333Z
LAST-MODIFIED:20251010T092747Z
UID:30802-1760436000-1760450400@www.ena-on.com
SUMMARY:14 Οκτωβρίου παρουσία κινητής μονάδας στην Ηλιούπολη
DESCRIPTION:Στις 14 Οκτωβρίου\, η κινητή μονάδα εξυπηρέτησης καταναλωτών της ENAON EDA\, θα βρίσκεται στην Ηλιούπολη\, για την εξυπηρέτηση των κατοίκων που ενδιαφέρονται να συνδεθούν με το δίκτυο διανομής φυσικού αερίου.
URL:https://www.ena-on.com/event/14-oktovriou-parousia-kinitis-monadas-stin-ilioupoli/
LOCATION:Ηλιούπολη\, Δημαρχείο Ηλιούπολης (Λεωφόρος Σοφοκλή Βενιζέλου 114 & Λεωφόρου Πρωτόπαπα)\, Ηλιούπολη\, 16345\, Greece
END:VEVENT
BEGIN:VEVENT
DTSTART;TZID=Europe/Athens:20251020T100000
DTEND;TZID=Europe/Athens:20251020T140000
DTSTAMP:20260424T161243
CREATED:20251016T064318Z
LAST-MODIFIED:20251016T065355Z
UID:30859-1760954400-1760968800@www.ena-on.com
SUMMARY:20 Οκτωβρίου παρουσία κινητής μονάδας στο δήμο Δάφνης-Υμηττού
DESCRIPTION:Στις 20 Οκτωβρίου\, η κινητή μονάδα εξυπηρέτησης καταναλωτών της ENAON EDA\, θα βρίσκεται στο δήμο Δάφνης-Υμηττού\, για την εξυπηρέτηση των κατοίκων που ενδιαφέρονται να συνδεθούν με το δίκτυο διανομής φυσικού αερίου.
URL:https://www.ena-on.com/event/20-oktovriou-parousia-kinitis-monadas-sti-dafni-ymitto/
LOCATION:Δάφνη-Υμηττός\, Πλατεία Δημαρχείου (Αγίας Βαρβάρας 68)\, Δάφνη\, 17235\, Greece
END:VEVENT
BEGIN:VEVENT
DTSTART;TZID=Europe/Athens:20251021T100000
DTEND;TZID=Europe/Athens:20251021T140000
DTSTAMP:20260424T161243
CREATED:20251020T092645Z
LAST-MODIFIED:20251020T093114Z
UID:30927-1761040800-1761055200@www.ena-on.com
SUMMARY:21 Οκτωβρίου παρουσία κινητής μονάδας στον δήμο Βόλβης
DESCRIPTION:Στις 21 Οκτωβρίου\, η κινητή μονάδα εξυπηρέτησης καταναλωτών της ENAON EDA\, θα βρίσκεται στον δήμο Βόλβης\, για να εξυπηρετήσει τους κατοίκους που ενδιαφέρονται να συνδεθούν με το δίκτυο διανομής φυσικού αερίου.
URL:https://www.ena-on.com/event/21-oktovriou-parousia-kinitis-monadas-ston-dimo-volvis/
LOCATION:Βόλβη\, ΚΑΠΗ Σταυρού στον Δήμο Βόλβης\, Βόλβη\, 57014\, Greece
END:VEVENT
BEGIN:VEVENT
DTSTART;TZID=Europe/Athens:20251021T100000
DTEND;TZID=Europe/Athens:20251021T140000
DTSTAMP:20260424T161243
CREATED:20251020T095400Z
LAST-MODIFIED:20251020T095707Z
UID:30939-1761040800-1761055200@www.ena-on.com
SUMMARY:21 Οκτωβρίου παρουσία κινητής μονάδας στη Γλυφάδα
DESCRIPTION:Στις 21 Οκτωβρίου\, η κινητή μονάδα εξυπηρέτησης καταναλωτών της ENAON EDA\, θα βρίσκεται στη Γλυφάδα\, για να εξυπηρετήσει τους κατοίκους που ενδιαφέρονται να συνδεθούν με το δίκτυο διανομής φυσικού αερίου.
URL:https://www.ena-on.com/event/21-oktovriou-parousia-kinitis-monadas-sti-glyfada/
LOCATION:Γλυφάδα\, Διασταύρωση των οδών Γούναρη και Ακροκορίνθου\, Γλυφάδα\, 16561\, Greece
END:VEVENT
BEGIN:VEVENT
DTSTART;TZID=Europe/Athens:20251022T100000
DTEND;TZID=Europe/Athens:20251022T140000
DTSTAMP:20260424T161243
CREATED:20251020T063205Z
LAST-MODIFIED:20251020T063824Z
UID:30898-1761127200-1761141600@www.ena-on.com
SUMMARY:22 Οκτωβρίου παρουσία κινητής μονάδας στη Λιβαδειά
DESCRIPTION:Στις 22 Οκτωβρίου\, η κινητή μονάδα εξυπηρέτησης καταναλωτών της ENAON EDA\, θα βρίσκεται στη Λιβαδειά\, για να εξυπηρετήσει τους κατοίκους που ενδιαφέρονται να συνδεθούν με το δίκτυο διανομής φυσικού αερίου.
URL:https://www.ena-on.com/event/22-oktovriou-parousia-kinitis-monadas-sti-livadeia/
LOCATION:Λιβαδειά\, Πλατεία Λ. Κατσώνη\, Λιβαδειά\, 32131\, Greece
END:VEVENT
BEGIN:VEVENT
DTSTART;TZID=Europe/Athens:20251023T100000
DTEND;TZID=Europe/Athens:20251023T190000
DTSTAMP:20260424T161243
CREATED:20251020T062956Z
LAST-MODIFIED:20251020T063835Z
UID:30899-1761213600-1761246000@www.ena-on.com
SUMMARY:23 Οκτωβρίου παρουσία κινητής μονάδας στη Θήβα
DESCRIPTION:Στις 23 Οκτωβρίου\, η κινητή μονάδα εξυπηρέτησης καταναλωτών της ENAON EDA\, θα βρίσκεται στη Θήβα\, για να εξυπηρετήσει τους κατοίκους που ενδιαφέρονται να συνδεθούν με το δίκτυο διανομής φυσικού αερίου.
URL:https://www.ena-on.com/event/23-oktovriou-parousia-kinitis-monadas-sti-thiva/
LOCATION:Θήβα\, Κεντρική πλατεία Θήβας\, Θήβα\, 32200\, Greece
END:VEVENT
BEGIN:VEVENT
DTSTART;TZID=Europe/Athens:20251030T100000
DTEND;TZID=Europe/Athens:20251030T140000
DTSTAMP:20260424T161243
CREATED:20251023T124919Z
LAST-MODIFIED:20251023T125147Z
UID:30980-1761818400-1761832800@www.ena-on.com
SUMMARY:30 Οκτωβρίου παρουσία κινητής μονάδας στο Ίλιον
DESCRIPTION:Στις 30 Οκτωβρίου\, η κινητή μονάδα εξυπηρέτησης καταναλωτών της ENAON EDA\, θα βρίσκεται στο Ίλιον\, για να εξυπηρετήσει τους κατοίκους που ενδιαφέρονται να συνδεθούν με το δίκτυο διανομής φυσικού αερίου.
URL:https://www.ena-on.com/event/30-oktovriou-parousia-kinitis-monadas-sto-ilion/
LOCATION:Ίλιον\, Πλατεία Ηρώων Πολυτεχνείου\, Ίλιον\, Ίλιον\, 13122\, Greece
END:VEVENT
END:VCALENDAR