BEGIN:VCALENDAR
VERSION:2.0
PRODID:-//Enaon eda - ECPv6.11.2//NONSGML v1.0//EN
CALSCALE:GREGORIAN
METHOD:PUBLISH
X-ORIGINAL-URL:https://www.ena-on.com
X-WR-CALDESC:Events for Enaon eda
REFRESH-INTERVAL;VALUE=DURATION:PT1H
X-Robots-Tag:noindex
X-PUBLISHED-TTL:PT1H
BEGIN:VTIMEZONE
TZID:Europe/Athens
BEGIN:DAYLIGHT
TZOFFSETFROM:+0200
TZOFFSETTO:+0300
TZNAME:EEST
DTSTART:20250330T010000
END:DAYLIGHT
BEGIN:STANDARD
TZOFFSETFROM:+0300
TZOFFSETTO:+0200
TZNAME:EET
DTSTART:20251026T010000
END:STANDARD
END:VTIMEZONE
BEGIN:VEVENT
DTSTART;TZID=Europe/Athens:20251104T100000
DTEND;TZID=Europe/Athens:20251105T190000
DTSTAMP:20260424T140722
CREATED:20251029T120337Z
LAST-MODIFIED:20251029T120755Z
UID:31029-1762250400-1762369200@www.ena-on.com
SUMMARY:4-5 Νοεμβρίου παρουσία κινητής μονάδας στη Βέροια
DESCRIPTION:Στις 4&5 Νοεμβρίου\, η κινητή μονάδα εξυπηρέτησης καταναλωτών της ENAON EDA\, θα βρίσκεται στη Βέροια\, για να εξυπηρετήσει τους κατοίκους που ενδιαφέρονται να συνδεθούν με το δίκτυο διανομής φυσικού αερίου.
URL:https://www.ena-on.com/event/4-5-noemvriou-parousia-kinitis-monadas-sti-veroia/
LOCATION:Βέροια\, Πλατεία Δημαρχείου\, Βέροια\, 59132\, Greece
END:VEVENT
BEGIN:VEVENT
DTSTART;TZID=Europe/Athens:20251107T100000
DTEND;TZID=Europe/Athens:20251107T140000
DTSTAMP:20260424T140722
CREATED:20251105T133407Z
LAST-MODIFIED:20251105T134212Z
UID:31085-1762509600-1762524000@www.ena-on.com
SUMMARY:7 Νοεμβρίου παρουσία κινητής μονάδας στη Μεταμόρφωση
DESCRIPTION:Στις 7 Νοεμβρίου\, η κινητή μονάδα εξυπηρέτησης καταναλωτών της ENAON EDA\, θα βρίσκεται στη Μεταμόρφωση\, για να εξυπηρετήσει τους κατοίκους που ενδιαφέρονται να συνδεθούν με το δίκτυο διανομής φυσικού αερίου.
URL:https://www.ena-on.com/event/7-noemvriou-parousia-kinitis-monadas-sti-metamorfosi/
LOCATION:Μεταμόρφωση\, Metamorfosi\, 14451\, Greece
END:VEVENT
BEGIN:VEVENT
DTSTART;TZID=Europe/Athens:20251119T100000
DTEND;TZID=Europe/Athens:20251120T190000
DTSTAMP:20260424T140722
CREATED:20251118T103115Z
LAST-MODIFIED:20251118T103516Z
UID:31219-1763546400-1763665200@www.ena-on.com
SUMMARY:19-20 Νοεμβρίου παρουσία κινητής μονάδας στη Βέροια
DESCRIPTION:Στις 19 και 20 Νοεμβρίου\, η κινητή μονάδα εξυπηρέτησης καταναλωτών της ENAON EDA\, θα βρίσκεται στη Βέροια\, για να εξυπηρετήσει τους κατοίκους που ενδιαφέρονται να συνδεθούν με το δίκτυο διανομής φυσικού αερίου.
URL:https://www.ena-on.com/event/19-20-noemvriou-parousia-kinitis-monadas-sti-veroia/
LOCATION:Βέροια\, Πλατεία Δημαρχείου\, Βέροια\, 59132\, Greece
END:VEVENT
BEGIN:VEVENT
DTSTART;TZID=Europe/Athens:20251121T100000
DTEND;TZID=Europe/Athens:20251121T190000
DTSTAMP:20260424T140722
CREATED:20251119T135718Z
LAST-MODIFIED:20251119T140212Z
UID:31320-1763719200-1763751600@www.ena-on.com
SUMMARY:21 Νοεμβρίου παρουσία κινητής μονάδας στην Καστοριά
DESCRIPTION:Στις 21 Νοεμβρίου\, η κινητή μονάδα εξυπηρέτησης καταναλωτών της ENAON EDA\, θα βρίσκεται στην Καστοριά\, για να εξυπηρετήσει τους κατοίκους που ενδιαφέρονται να συνδεθούν με το δίκτυο διανομής φυσικού αερίου.
URL:https://www.ena-on.com/event/21-noemvriou-parousia-kinitis-monadas-stin-kastoria/
LOCATION:Καστοριά\, Καστοριά\, 52100\, Greece
END:VEVENT
BEGIN:VEVENT
DTSTART;TZID=Europe/Athens:20251125T100000
DTEND;TZID=Europe/Athens:20251125T140000
DTSTAMP:20260424T140722
CREATED:20251120T141530Z
LAST-MODIFIED:20251124T082716Z
UID:31395-1764064800-1764079200@www.ena-on.com
SUMMARY:25 Νοεμβρίου ενημερωτική δράση στην Ηλιούπολη
DESCRIPTION:Στις 25 Νοεμβρίου\, θα πραγματοποιηθεί από την Enaon EDA ενημερωτική δράση στην Ηλιούπολη\, για την εξυπηρέτηση των κατοίκων που ενδιαφέρονται να συνδεθούν με το δίκτυο διανομής φυσικού αερίου.
URL:https://www.ena-on.com/event/25-noemvriou-enimerotiki-drasi-stin-ilioupoli/
LOCATION:Ilioupoli
END:VEVENT
BEGIN:VEVENT
DTSTART;TZID=Europe/Athens:20251128T100000
DTEND;TZID=Europe/Athens:20251128T190000
DTSTAMP:20260424T140722
CREATED:20251126T085355Z
LAST-MODIFIED:20251126T085355Z
UID:31755-1764324000-1764356400@www.ena-on.com
SUMMARY:28 Νοεμβρίου παρουσία κινητής μονάδας στο Καρπενήσι
DESCRIPTION:Στις 28 Νοεμβρίου\, η κινητή μονάδα εξυπηρέτησης καταναλωτών της ENAON EDA\, θα βρίσκεται στο Καρπενήσι\, για να εξυπηρετήσει τους κατοίκους που ενδιαφέρονται να συνδεθούν με το δίκτυο διανομής φυσικού αερίου.
URL:https://www.ena-on.com/event/28-noemvriou-parousia-kinitis-monadas-sto-karpenisi/
LOCATION:Καρπενήσι\, Ευγενίου Αιτωλού\, Κεντρική Πλατεία Καρπενησίου\, Καρπενήσι\, 36100\, Greece
END:VEVENT
END:VCALENDAR